BEGIN:VCALENDAR
VERSION:2.0
PRODID:-//The Twelfth Night Theatre - ECPv6.15.20//NONSGML v1.0//EN
CALSCALE:GREGORIAN
METHOD:PUBLISH
X-WR-CALNAME:The Twelfth Night Theatre
X-ORIGINAL-URL:https://twelfthnight.com.au
X-WR-CALDESC:Events for The Twelfth Night Theatre
REFRESH-INTERVAL;VALUE=DURATION:PT1H
X-Robots-Tag:noindex
X-PUBLISHED-TTL:PT1H
BEGIN:VTIMEZONE
TZID:Australia/Brisbane
BEGIN:STANDARD
TZOFFSETFROM:+1000
TZOFFSETTO:+1000
TZNAME:AEST
DTSTART:20250101T000000
END:STANDARD
END:VTIMEZONE
BEGIN:VEVENT
DTSTART;TZID=Australia/Brisbane:20260930T140000
DTEND;TZID=Australia/Brisbane:20260930T154000
DTSTAMP:20260423T021215
CREATED:20260420T050415Z
LAST-MODIFIED:20260420T051627Z
UID:10000177-1790776800-1790782800@twelfthnight.com.au
SUMMARY:Menopause The Musical
DESCRIPTION:Ladies! It’s time to embrace “The Change” with a night out\, full of uncontrollable laughter\, uplifting celebration and shared sisterhood! \nInspired by a hot flush and a bottle of wine\, the global smash hit\, Menopause The Musical®\, is back in a brand-new production – touring to Geelong\, Parramatta\, Melbourne\, Newcastle\, Adelaide\, Brisbane and Canberra in 2026. \nFeaturing parodied hits from the ‘60s\, ‘70s and ‘80s – including I Will Survive\, Hot Stuff\, What’s Love Got to Do With It\, and We Are Family – four women tell it like it is – from hormonal heatwaves and memory meltdowns to midnight sweats and a sex life stuck somewhere between “not now” and “again already?”. \nGrab your girlfriends and get ready to laugh\, relate and feel the joy of being understood. It’s a night of feel-good hits\, hilarious truths and a whole lot of heart. See what millions of women (and brave men) have been laughing about for over 25 years!
URL:https://twelfthnight.com.au/event/menopause-the-musical/2026-09-30/1/
LOCATION:Twelfth Night Theatre\, 4 Cintra Road\, Bowen Hills\, Queensland\, 4006\, Australia
ATTACH;FMTTYPE=image/jpeg:https://twelfthnight.com.au/wp-content/uploads/2026/04/Banner-Large_-2340-x-765_2.jpg
END:VEVENT
BEGIN:VEVENT
DTSTART;TZID=Australia/Brisbane:20260930T193000
DTEND;TZID=Australia/Brisbane:20260930T211000
DTSTAMP:20260423T021215
CREATED:20260420T050415Z
LAST-MODIFIED:20260420T051627Z
UID:10000178-1790796600-1790802600@twelfthnight.com.au
SUMMARY:Menopause The Musical
DESCRIPTION:Ladies! It’s time to embrace “The Change” with a night out\, full of uncontrollable laughter\, uplifting celebration and shared sisterhood! \nInspired by a hot flush and a bottle of wine\, the global smash hit\, Menopause The Musical®\, is back in a brand-new production – touring to Geelong\, Parramatta\, Melbourne\, Newcastle\, Adelaide\, Brisbane and Canberra in 2026. \nFeaturing parodied hits from the ‘60s\, ‘70s and ‘80s – including I Will Survive\, Hot Stuff\, What’s Love Got to Do With It\, and We Are Family – four women tell it like it is – from hormonal heatwaves and memory meltdowns to midnight sweats and a sex life stuck somewhere between “not now” and “again already?”. \nGrab your girlfriends and get ready to laugh\, relate and feel the joy of being understood. It’s a night of feel-good hits\, hilarious truths and a whole lot of heart. See what millions of women (and brave men) have been laughing about for over 25 years!
URL:https://twelfthnight.com.au/event/menopause-the-musical/2026-09-30/3/
LOCATION:Twelfth Night Theatre\, 4 Cintra Road\, Bowen Hills\, Queensland\, 4006\, Australia
ATTACH;FMTTYPE=image/jpeg:https://twelfthnight.com.au/wp-content/uploads/2026/04/Banner-Large_-2340-x-765_2.jpg
END:VEVENT
END:VCALENDAR