BEGIN:VCALENDAR
VERSION:2.0
PRODID:-//The Twelfth Night Theatre - ECPv6.15.20//NONSGML v1.0//EN
CALSCALE:GREGORIAN
METHOD:PUBLISH
X-WR-CALNAME:The Twelfth Night Theatre
X-ORIGINAL-URL:https://twelfthnight.com.au
X-WR-CALDESC:Events for The Twelfth Night Theatre
REFRESH-INTERVAL;VALUE=DURATION:PT1H
X-Robots-Tag:noindex
X-PUBLISHED-TTL:PT1H
BEGIN:VTIMEZONE
TZID:Australia/Brisbane
BEGIN:STANDARD
TZOFFSETFROM:+1000
TZOFFSETTO:+1000
TZNAME:AEST
DTSTART:20250101T000000
END:STANDARD
END:VTIMEZONE
BEGIN:VEVENT
DTSTART;TZID=Australia/Brisbane:20260930T140000
DTEND;TZID=Australia/Brisbane:20260930T154000
DTSTAMP:20260422T202418
CREATED:20260420T050415Z
LAST-MODIFIED:20260420T051627Z
UID:10000177-1790776800-1790782800@twelfthnight.com.au
SUMMARY:Menopause The Musical
DESCRIPTION:Ladies! It’s time to embrace “The Change” with a night out\, full of uncontrollable laughter\, uplifting celebration and shared sisterhood! \nInspired by a hot flush and a bottle of wine\, the global smash hit\, Menopause The Musical®\, is back in a brand-new production – touring to Geelong\, Parramatta\, Melbourne\, Newcastle\, Adelaide\, Brisbane and Canberra in 2026. \nFeaturing parodied hits from the ‘60s\, ‘70s and ‘80s – including I Will Survive\, Hot Stuff\, What’s Love Got to Do With It\, and We Are Family – four women tell it like it is – from hormonal heatwaves and memory meltdowns to midnight sweats and a sex life stuck somewhere between “not now” and “again already?”. \nGrab your girlfriends and get ready to laugh\, relate and feel the joy of being understood. It’s a night of feel-good hits\, hilarious truths and a whole lot of heart. See what millions of women (and brave men) have been laughing about for over 25 years!
URL:https://twelfthnight.com.au/event/menopause-the-musical/2026-09-30/1/
LOCATION:Twelfth Night Theatre\, 4 Cintra Road\, Bowen Hills\, Queensland\, 4006\, Australia
ATTACH;FMTTYPE=image/jpeg:https://twelfthnight.com.au/wp-content/uploads/2026/04/Banner-Large_-2340-x-765_2.jpg
END:VEVENT
BEGIN:VEVENT
DTSTART;TZID=Australia/Brisbane:20260930T193000
DTEND;TZID=Australia/Brisbane:20260930T211000
DTSTAMP:20260422T202418
CREATED:20260420T050415Z
LAST-MODIFIED:20260420T051627Z
UID:10000178-1790796600-1790802600@twelfthnight.com.au
SUMMARY:Menopause The Musical
DESCRIPTION:Ladies! It’s time to embrace “The Change” with a night out\, full of uncontrollable laughter\, uplifting celebration and shared sisterhood! \nInspired by a hot flush and a bottle of wine\, the global smash hit\, Menopause The Musical®\, is back in a brand-new production – touring to Geelong\, Parramatta\, Melbourne\, Newcastle\, Adelaide\, Brisbane and Canberra in 2026. \nFeaturing parodied hits from the ‘60s\, ‘70s and ‘80s – including I Will Survive\, Hot Stuff\, What’s Love Got to Do With It\, and We Are Family – four women tell it like it is – from hormonal heatwaves and memory meltdowns to midnight sweats and a sex life stuck somewhere between “not now” and “again already?”. \nGrab your girlfriends and get ready to laugh\, relate and feel the joy of being understood. It’s a night of feel-good hits\, hilarious truths and a whole lot of heart. See what millions of women (and brave men) have been laughing about for over 25 years!
URL:https://twelfthnight.com.au/event/menopause-the-musical/2026-09-30/3/
LOCATION:Twelfth Night Theatre\, 4 Cintra Road\, Bowen Hills\, Queensland\, 4006\, Australia
ATTACH;FMTTYPE=image/jpeg:https://twelfthnight.com.au/wp-content/uploads/2026/04/Banner-Large_-2340-x-765_2.jpg
END:VEVENT
BEGIN:VEVENT
DTSTART;TZID=Australia/Brisbane:20261001T193000
DTEND;TZID=Australia/Brisbane:20261001T211000
DTSTAMP:20260422T202418
CREATED:20260420T050415Z
LAST-MODIFIED:20260420T051627Z
UID:10000179-1790883000-1790889000@twelfthnight.com.au
SUMMARY:Menopause The Musical
DESCRIPTION:Ladies! It’s time to embrace “The Change” with a night out\, full of uncontrollable laughter\, uplifting celebration and shared sisterhood! \nInspired by a hot flush and a bottle of wine\, the global smash hit\, Menopause The Musical®\, is back in a brand-new production – touring to Geelong\, Parramatta\, Melbourne\, Newcastle\, Adelaide\, Brisbane and Canberra in 2026. \nFeaturing parodied hits from the ‘60s\, ‘70s and ‘80s – including I Will Survive\, Hot Stuff\, What’s Love Got to Do With It\, and We Are Family – four women tell it like it is – from hormonal heatwaves and memory meltdowns to midnight sweats and a sex life stuck somewhere between “not now” and “again already?”. \nGrab your girlfriends and get ready to laugh\, relate and feel the joy of being understood. It’s a night of feel-good hits\, hilarious truths and a whole lot of heart. See what millions of women (and brave men) have been laughing about for over 25 years!
URL:https://twelfthnight.com.au/event/menopause-the-musical/2026-10-01/
LOCATION:Twelfth Night Theatre\, 4 Cintra Road\, Bowen Hills\, Queensland\, 4006\, Australia
ATTACH;FMTTYPE=image/jpeg:https://twelfthnight.com.au/wp-content/uploads/2026/04/Banner-Large_-2340-x-765_2.jpg
END:VEVENT
BEGIN:VEVENT
DTSTART;TZID=Australia/Brisbane:20261002T193000
DTEND;TZID=Australia/Brisbane:20261002T211000
DTSTAMP:20260422T202418
CREATED:20260420T050415Z
LAST-MODIFIED:20260420T051627Z
UID:10000180-1790969400-1790975400@twelfthnight.com.au
SUMMARY:Menopause The Musical
DESCRIPTION:Ladies! It’s time to embrace “The Change” with a night out\, full of uncontrollable laughter\, uplifting celebration and shared sisterhood! \nInspired by a hot flush and a bottle of wine\, the global smash hit\, Menopause The Musical®\, is back in a brand-new production – touring to Geelong\, Parramatta\, Melbourne\, Newcastle\, Adelaide\, Brisbane and Canberra in 2026. \nFeaturing parodied hits from the ‘60s\, ‘70s and ‘80s – including I Will Survive\, Hot Stuff\, What’s Love Got to Do With It\, and We Are Family – four women tell it like it is – from hormonal heatwaves and memory meltdowns to midnight sweats and a sex life stuck somewhere between “not now” and “again already?”. \nGrab your girlfriends and get ready to laugh\, relate and feel the joy of being understood. It’s a night of feel-good hits\, hilarious truths and a whole lot of heart. See what millions of women (and brave men) have been laughing about for over 25 years!
URL:https://twelfthnight.com.au/event/menopause-the-musical/2026-10-02/
LOCATION:Twelfth Night Theatre\, 4 Cintra Road\, Bowen Hills\, Queensland\, 4006\, Australia
ATTACH;FMTTYPE=image/jpeg:https://twelfthnight.com.au/wp-content/uploads/2026/04/Banner-Large_-2340-x-765_2.jpg
END:VEVENT
BEGIN:VEVENT
DTSTART;TZID=Australia/Brisbane:20261003T140000
DTEND;TZID=Australia/Brisbane:20261003T154000
DTSTAMP:20260422T202418
CREATED:20260420T050415Z
LAST-MODIFIED:20260420T051627Z
UID:10000181-1791036000-1791042000@twelfthnight.com.au
SUMMARY:Menopause The Musical
DESCRIPTION:Ladies! It’s time to embrace “The Change” with a night out\, full of uncontrollable laughter\, uplifting celebration and shared sisterhood! \nInspired by a hot flush and a bottle of wine\, the global smash hit\, Menopause The Musical®\, is back in a brand-new production – touring to Geelong\, Parramatta\, Melbourne\, Newcastle\, Adelaide\, Brisbane and Canberra in 2026. \nFeaturing parodied hits from the ‘60s\, ‘70s and ‘80s – including I Will Survive\, Hot Stuff\, What’s Love Got to Do With It\, and We Are Family – four women tell it like it is – from hormonal heatwaves and memory meltdowns to midnight sweats and a sex life stuck somewhere between “not now” and “again already?”. \nGrab your girlfriends and get ready to laugh\, relate and feel the joy of being understood. It’s a night of feel-good hits\, hilarious truths and a whole lot of heart. See what millions of women (and brave men) have been laughing about for over 25 years!
URL:https://twelfthnight.com.au/event/menopause-the-musical/2026-10-03/1/
LOCATION:Twelfth Night Theatre\, 4 Cintra Road\, Bowen Hills\, Queensland\, 4006\, Australia
ATTACH;FMTTYPE=image/jpeg:https://twelfthnight.com.au/wp-content/uploads/2026/04/Banner-Large_-2340-x-765_2.jpg
END:VEVENT
BEGIN:VEVENT
DTSTART;TZID=Australia/Brisbane:20261003T193000
DTEND;TZID=Australia/Brisbane:20261003T211000
DTSTAMP:20260422T202418
CREATED:20260420T050415Z
LAST-MODIFIED:20260420T051627Z
UID:10000182-1791055800-1791061800@twelfthnight.com.au
SUMMARY:Menopause The Musical
DESCRIPTION:Ladies! It’s time to embrace “The Change” with a night out\, full of uncontrollable laughter\, uplifting celebration and shared sisterhood! \nInspired by a hot flush and a bottle of wine\, the global smash hit\, Menopause The Musical®\, is back in a brand-new production – touring to Geelong\, Parramatta\, Melbourne\, Newcastle\, Adelaide\, Brisbane and Canberra in 2026. \nFeaturing parodied hits from the ‘60s\, ‘70s and ‘80s – including I Will Survive\, Hot Stuff\, What’s Love Got to Do With It\, and We Are Family – four women tell it like it is – from hormonal heatwaves and memory meltdowns to midnight sweats and a sex life stuck somewhere between “not now” and “again already?”. \nGrab your girlfriends and get ready to laugh\, relate and feel the joy of being understood. It’s a night of feel-good hits\, hilarious truths and a whole lot of heart. See what millions of women (and brave men) have been laughing about for over 25 years!
URL:https://twelfthnight.com.au/event/menopause-the-musical/2026-10-03/2/
LOCATION:Twelfth Night Theatre\, 4 Cintra Road\, Bowen Hills\, Queensland\, 4006\, Australia
ATTACH;FMTTYPE=image/jpeg:https://twelfthnight.com.au/wp-content/uploads/2026/04/Banner-Large_-2340-x-765_2.jpg
END:VEVENT
BEGIN:VEVENT
DTSTART;TZID=Australia/Brisbane:20261004T140000
DTEND;TZID=Australia/Brisbane:20261004T154000
DTSTAMP:20260422T202418
CREATED:20260420T050415Z
LAST-MODIFIED:20260420T051627Z
UID:10000183-1791122400-1791128400@twelfthnight.com.au
SUMMARY:Menopause The Musical
DESCRIPTION:Ladies! It’s time to embrace “The Change” with a night out\, full of uncontrollable laughter\, uplifting celebration and shared sisterhood! \nInspired by a hot flush and a bottle of wine\, the global smash hit\, Menopause The Musical®\, is back in a brand-new production – touring to Geelong\, Parramatta\, Melbourne\, Newcastle\, Adelaide\, Brisbane and Canberra in 2026. \nFeaturing parodied hits from the ‘60s\, ‘70s and ‘80s – including I Will Survive\, Hot Stuff\, What’s Love Got to Do With It\, and We Are Family – four women tell it like it is – from hormonal heatwaves and memory meltdowns to midnight sweats and a sex life stuck somewhere between “not now” and “again already?”. \nGrab your girlfriends and get ready to laugh\, relate and feel the joy of being understood. It’s a night of feel-good hits\, hilarious truths and a whole lot of heart. See what millions of women (and brave men) have been laughing about for over 25 years!
URL:https://twelfthnight.com.au/event/menopause-the-musical/2026-10-04/1/
LOCATION:Twelfth Night Theatre\, 4 Cintra Road\, Bowen Hills\, Queensland\, 4006\, Australia
ATTACH;FMTTYPE=image/jpeg:https://twelfthnight.com.au/wp-content/uploads/2026/04/Banner-Large_-2340-x-765_2.jpg
END:VEVENT
BEGIN:VEVENT
DTSTART;TZID=Australia/Brisbane:20261004T180000
DTEND;TZID=Australia/Brisbane:20261004T194000
DTSTAMP:20260422T202418
CREATED:20260420T050415Z
LAST-MODIFIED:20260420T051627Z
UID:10000184-1791136800-1791142800@twelfthnight.com.au
SUMMARY:Menopause The Musical
DESCRIPTION:Ladies! It’s time to embrace “The Change” with a night out\, full of uncontrollable laughter\, uplifting celebration and shared sisterhood! \nInspired by a hot flush and a bottle of wine\, the global smash hit\, Menopause The Musical®\, is back in a brand-new production – touring to Geelong\, Parramatta\, Melbourne\, Newcastle\, Adelaide\, Brisbane and Canberra in 2026. \nFeaturing parodied hits from the ‘60s\, ‘70s and ‘80s – including I Will Survive\, Hot Stuff\, What’s Love Got to Do With It\, and We Are Family – four women tell it like it is – from hormonal heatwaves and memory meltdowns to midnight sweats and a sex life stuck somewhere between “not now” and “again already?”. \nGrab your girlfriends and get ready to laugh\, relate and feel the joy of being understood. It’s a night of feel-good hits\, hilarious truths and a whole lot of heart. See what millions of women (and brave men) have been laughing about for over 25 years!
URL:https://twelfthnight.com.au/event/menopause-the-musical/2026-10-04/2/
LOCATION:Twelfth Night Theatre\, 4 Cintra Road\, Bowen Hills\, Queensland\, 4006\, Australia
ATTACH;FMTTYPE=image/jpeg:https://twelfthnight.com.au/wp-content/uploads/2026/04/Banner-Large_-2340-x-765_2.jpg
END:VEVENT
BEGIN:VEVENT
DTSTART;TZID=Australia/Brisbane:20261007T140000
DTEND;TZID=Australia/Brisbane:20261007T154000
DTSTAMP:20260422T202418
CREATED:20260420T050415Z
LAST-MODIFIED:20260420T051627Z
UID:10000185-1791381600-1791387600@twelfthnight.com.au
SUMMARY:Menopause The Musical
DESCRIPTION:Ladies! It’s time to embrace “The Change” with a night out\, full of uncontrollable laughter\, uplifting celebration and shared sisterhood! \nInspired by a hot flush and a bottle of wine\, the global smash hit\, Menopause The Musical®\, is back in a brand-new production – touring to Geelong\, Parramatta\, Melbourne\, Newcastle\, Adelaide\, Brisbane and Canberra in 2026. \nFeaturing parodied hits from the ‘60s\, ‘70s and ‘80s – including I Will Survive\, Hot Stuff\, What’s Love Got to Do With It\, and We Are Family – four women tell it like it is – from hormonal heatwaves and memory meltdowns to midnight sweats and a sex life stuck somewhere between “not now” and “again already?”. \nGrab your girlfriends and get ready to laugh\, relate and feel the joy of being understood. It’s a night of feel-good hits\, hilarious truths and a whole lot of heart. See what millions of women (and brave men) have been laughing about for over 25 years!
URL:https://twelfthnight.com.au/event/menopause-the-musical/2026-10-07/1/
LOCATION:Twelfth Night Theatre\, 4 Cintra Road\, Bowen Hills\, Queensland\, 4006\, Australia
ATTACH;FMTTYPE=image/jpeg:https://twelfthnight.com.au/wp-content/uploads/2026/04/Banner-Large_-2340-x-765_2.jpg
END:VEVENT
BEGIN:VEVENT
DTSTART;TZID=Australia/Brisbane:20261007T193000
DTEND;TZID=Australia/Brisbane:20261007T211000
DTSTAMP:20260422T202418
CREATED:20260420T050415Z
LAST-MODIFIED:20260420T051627Z
UID:10000186-1791401400-1791407400@twelfthnight.com.au
SUMMARY:Menopause The Musical
DESCRIPTION:Ladies! It’s time to embrace “The Change” with a night out\, full of uncontrollable laughter\, uplifting celebration and shared sisterhood! \nInspired by a hot flush and a bottle of wine\, the global smash hit\, Menopause The Musical®\, is back in a brand-new production – touring to Geelong\, Parramatta\, Melbourne\, Newcastle\, Adelaide\, Brisbane and Canberra in 2026. \nFeaturing parodied hits from the ‘60s\, ‘70s and ‘80s – including I Will Survive\, Hot Stuff\, What’s Love Got to Do With It\, and We Are Family – four women tell it like it is – from hormonal heatwaves and memory meltdowns to midnight sweats and a sex life stuck somewhere between “not now” and “again already?”. \nGrab your girlfriends and get ready to laugh\, relate and feel the joy of being understood. It’s a night of feel-good hits\, hilarious truths and a whole lot of heart. See what millions of women (and brave men) have been laughing about for over 25 years!
URL:https://twelfthnight.com.au/event/menopause-the-musical/2026-10-07/3/
LOCATION:Twelfth Night Theatre\, 4 Cintra Road\, Bowen Hills\, Queensland\, 4006\, Australia
ATTACH;FMTTYPE=image/jpeg:https://twelfthnight.com.au/wp-content/uploads/2026/04/Banner-Large_-2340-x-765_2.jpg
END:VEVENT
BEGIN:VEVENT
DTSTART;TZID=Australia/Brisbane:20261008T193000
DTEND;TZID=Australia/Brisbane:20261008T211000
DTSTAMP:20260422T202418
CREATED:20260420T050415Z
LAST-MODIFIED:20260420T051627Z
UID:10000187-1791487800-1791493800@twelfthnight.com.au
SUMMARY:Menopause The Musical
DESCRIPTION:Ladies! It’s time to embrace “The Change” with a night out\, full of uncontrollable laughter\, uplifting celebration and shared sisterhood! \nInspired by a hot flush and a bottle of wine\, the global smash hit\, Menopause The Musical®\, is back in a brand-new production – touring to Geelong\, Parramatta\, Melbourne\, Newcastle\, Adelaide\, Brisbane and Canberra in 2026. \nFeaturing parodied hits from the ‘60s\, ‘70s and ‘80s – including I Will Survive\, Hot Stuff\, What’s Love Got to Do With It\, and We Are Family – four women tell it like it is – from hormonal heatwaves and memory meltdowns to midnight sweats and a sex life stuck somewhere between “not now” and “again already?”. \nGrab your girlfriends and get ready to laugh\, relate and feel the joy of being understood. It’s a night of feel-good hits\, hilarious truths and a whole lot of heart. See what millions of women (and brave men) have been laughing about for over 25 years!
URL:https://twelfthnight.com.au/event/menopause-the-musical/2026-10-08/
LOCATION:Twelfth Night Theatre\, 4 Cintra Road\, Bowen Hills\, Queensland\, 4006\, Australia
ATTACH;FMTTYPE=image/jpeg:https://twelfthnight.com.au/wp-content/uploads/2026/04/Banner-Large_-2340-x-765_2.jpg
END:VEVENT
BEGIN:VEVENT
DTSTART;TZID=Australia/Brisbane:20261009T193000
DTEND;TZID=Australia/Brisbane:20261009T211000
DTSTAMP:20260422T202418
CREATED:20260420T050415Z
LAST-MODIFIED:20260420T051627Z
UID:10000188-1791574200-1791580200@twelfthnight.com.au
SUMMARY:Menopause The Musical
DESCRIPTION:Ladies! It’s time to embrace “The Change” with a night out\, full of uncontrollable laughter\, uplifting celebration and shared sisterhood! \nInspired by a hot flush and a bottle of wine\, the global smash hit\, Menopause The Musical®\, is back in a brand-new production – touring to Geelong\, Parramatta\, Melbourne\, Newcastle\, Adelaide\, Brisbane and Canberra in 2026. \nFeaturing parodied hits from the ‘60s\, ‘70s and ‘80s – including I Will Survive\, Hot Stuff\, What’s Love Got to Do With It\, and We Are Family – four women tell it like it is – from hormonal heatwaves and memory meltdowns to midnight sweats and a sex life stuck somewhere between “not now” and “again already?”. \nGrab your girlfriends and get ready to laugh\, relate and feel the joy of being understood. It’s a night of feel-good hits\, hilarious truths and a whole lot of heart. See what millions of women (and brave men) have been laughing about for over 25 years!
URL:https://twelfthnight.com.au/event/menopause-the-musical/2026-10-09/
LOCATION:Twelfth Night Theatre\, 4 Cintra Road\, Bowen Hills\, Queensland\, 4006\, Australia
ATTACH;FMTTYPE=image/jpeg:https://twelfthnight.com.au/wp-content/uploads/2026/04/Banner-Large_-2340-x-765_2.jpg
END:VEVENT
BEGIN:VEVENT
DTSTART;TZID=Australia/Brisbane:20261010T140000
DTEND;TZID=Australia/Brisbane:20261010T154000
DTSTAMP:20260422T202418
CREATED:20260420T050415Z
LAST-MODIFIED:20260420T051627Z
UID:10000189-1791640800-1791646800@twelfthnight.com.au
SUMMARY:Menopause The Musical
DESCRIPTION:Ladies! It’s time to embrace “The Change” with a night out\, full of uncontrollable laughter\, uplifting celebration and shared sisterhood! \nInspired by a hot flush and a bottle of wine\, the global smash hit\, Menopause The Musical®\, is back in a brand-new production – touring to Geelong\, Parramatta\, Melbourne\, Newcastle\, Adelaide\, Brisbane and Canberra in 2026. \nFeaturing parodied hits from the ‘60s\, ‘70s and ‘80s – including I Will Survive\, Hot Stuff\, What’s Love Got to Do With It\, and We Are Family – four women tell it like it is – from hormonal heatwaves and memory meltdowns to midnight sweats and a sex life stuck somewhere between “not now” and “again already?”. \nGrab your girlfriends and get ready to laugh\, relate and feel the joy of being understood. It’s a night of feel-good hits\, hilarious truths and a whole lot of heart. See what millions of women (and brave men) have been laughing about for over 25 years!
URL:https://twelfthnight.com.au/event/menopause-the-musical/2026-10-10/1/
LOCATION:Twelfth Night Theatre\, 4 Cintra Road\, Bowen Hills\, Queensland\, 4006\, Australia
ATTACH;FMTTYPE=image/jpeg:https://twelfthnight.com.au/wp-content/uploads/2026/04/Banner-Large_-2340-x-765_2.jpg
END:VEVENT
BEGIN:VEVENT
DTSTART;TZID=Australia/Brisbane:20261010T193000
DTEND;TZID=Australia/Brisbane:20261010T211000
DTSTAMP:20260422T202418
CREATED:20260420T050415Z
LAST-MODIFIED:20260420T051627Z
UID:10000190-1791660600-1791666600@twelfthnight.com.au
SUMMARY:Menopause The Musical
DESCRIPTION:Ladies! It’s time to embrace “The Change” with a night out\, full of uncontrollable laughter\, uplifting celebration and shared sisterhood! \nInspired by a hot flush and a bottle of wine\, the global smash hit\, Menopause The Musical®\, is back in a brand-new production – touring to Geelong\, Parramatta\, Melbourne\, Newcastle\, Adelaide\, Brisbane and Canberra in 2026. \nFeaturing parodied hits from the ‘60s\, ‘70s and ‘80s – including I Will Survive\, Hot Stuff\, What’s Love Got to Do With It\, and We Are Family – four women tell it like it is – from hormonal heatwaves and memory meltdowns to midnight sweats and a sex life stuck somewhere between “not now” and “again already?”. \nGrab your girlfriends and get ready to laugh\, relate and feel the joy of being understood. It’s a night of feel-good hits\, hilarious truths and a whole lot of heart. See what millions of women (and brave men) have been laughing about for over 25 years!
URL:https://twelfthnight.com.au/event/menopause-the-musical/2026-10-10/2/
LOCATION:Twelfth Night Theatre\, 4 Cintra Road\, Bowen Hills\, Queensland\, 4006\, Australia
ATTACH;FMTTYPE=image/jpeg:https://twelfthnight.com.au/wp-content/uploads/2026/04/Banner-Large_-2340-x-765_2.jpg
END:VEVENT
BEGIN:VEVENT
DTSTART;TZID=Australia/Brisbane:20261011T140000
DTEND;TZID=Australia/Brisbane:20261011T154000
DTSTAMP:20260422T202418
CREATED:20260420T050415Z
LAST-MODIFIED:20260420T051627Z
UID:10000191-1791727200-1791733200@twelfthnight.com.au
SUMMARY:Menopause The Musical
DESCRIPTION:Ladies! It’s time to embrace “The Change” with a night out\, full of uncontrollable laughter\, uplifting celebration and shared sisterhood! \nInspired by a hot flush and a bottle of wine\, the global smash hit\, Menopause The Musical®\, is back in a brand-new production – touring to Geelong\, Parramatta\, Melbourne\, Newcastle\, Adelaide\, Brisbane and Canberra in 2026. \nFeaturing parodied hits from the ‘60s\, ‘70s and ‘80s – including I Will Survive\, Hot Stuff\, What’s Love Got to Do With It\, and We Are Family – four women tell it like it is – from hormonal heatwaves and memory meltdowns to midnight sweats and a sex life stuck somewhere between “not now” and “again already?”. \nGrab your girlfriends and get ready to laugh\, relate and feel the joy of being understood. It’s a night of feel-good hits\, hilarious truths and a whole lot of heart. See what millions of women (and brave men) have been laughing about for over 25 years!
URL:https://twelfthnight.com.au/event/menopause-the-musical/2026-10-11/1/
LOCATION:Twelfth Night Theatre\, 4 Cintra Road\, Bowen Hills\, Queensland\, 4006\, Australia
ATTACH;FMTTYPE=image/jpeg:https://twelfthnight.com.au/wp-content/uploads/2026/04/Banner-Large_-2340-x-765_2.jpg
END:VEVENT
BEGIN:VEVENT
DTSTART;TZID=Australia/Brisbane:20261011T180000
DTEND;TZID=Australia/Brisbane:20261011T194000
DTSTAMP:20260422T202418
CREATED:20260420T050415Z
LAST-MODIFIED:20260420T051627Z
UID:10000192-1791741600-1791747600@twelfthnight.com.au
SUMMARY:Menopause The Musical
DESCRIPTION:Ladies! It’s time to embrace “The Change” with a night out\, full of uncontrollable laughter\, uplifting celebration and shared sisterhood! \nInspired by a hot flush and a bottle of wine\, the global smash hit\, Menopause The Musical®\, is back in a brand-new production – touring to Geelong\, Parramatta\, Melbourne\, Newcastle\, Adelaide\, Brisbane and Canberra in 2026. \nFeaturing parodied hits from the ‘60s\, ‘70s and ‘80s – including I Will Survive\, Hot Stuff\, What’s Love Got to Do With It\, and We Are Family – four women tell it like it is – from hormonal heatwaves and memory meltdowns to midnight sweats and a sex life stuck somewhere between “not now” and “again already?”. \nGrab your girlfriends and get ready to laugh\, relate and feel the joy of being understood. It’s a night of feel-good hits\, hilarious truths and a whole lot of heart. See what millions of women (and brave men) have been laughing about for over 25 years!
URL:https://twelfthnight.com.au/event/menopause-the-musical/2026-10-11/2/
LOCATION:Twelfth Night Theatre\, 4 Cintra Road\, Bowen Hills\, Queensland\, 4006\, Australia
ATTACH;FMTTYPE=image/jpeg:https://twelfthnight.com.au/wp-content/uploads/2026/04/Banner-Large_-2340-x-765_2.jpg
END:VEVENT
END:VCALENDAR